BEGIN:VCALENDAR
VERSION:2.0
PRODID:-//Temple Isaiah - ECPv6.6.4.2//NONSGML v1.0//EN
CALSCALE:GREGORIAN
METHOD:PUBLISH
X-ORIGINAL-URL:https://templeisaiah.com
X-WR-CALDESC:Events for Temple Isaiah
REFRESH-INTERVAL;VALUE=DURATION:PT1H
X-Robots-Tag:noindex
X-PUBLISHED-TTL:PT1H
BEGIN:VTIMEZONE
TZID:UTC
BEGIN:STANDARD
TZOFFSETFROM:+0000
TZOFFSETTO:+0000
TZNAME:UTC
DTSTART:20260101T000000
END:STANDARD
END:VTIMEZONE
BEGIN:VEVENT
DTSTART;TZID=UTC:20260217T191500
DTEND;TZID=UTC:20260217T204500
DTSTAMP:20260420T124547
CREATED:20251120T200355Z
LAST-MODIFIED:20260211T213932Z
UID:28057-1771355700-1771361100@templeisaiah.com
SUMMARY:Isaiah Women Book Club
DESCRIPTION:THE OTHER MADISONS\nby Bettye Kearse\nWhen: Tuesday\, February 17th\, 7:15pm\nWhere: Home of Eva Englander\nHost: Eva Englander
URL:https://templeisaiah.com/event/isaiah-women-book-club-29/
CATEGORIES:Isaiah Women,Women
END:VEVENT
END:VCALENDAR