BEGIN:VCALENDAR
VERSION:2.0
PRODID:-//Temple Isaiah - ECPv6.6.4.2//NONSGML v1.0//EN
CALSCALE:GREGORIAN
METHOD:PUBLISH
X-WR-CALNAME:Temple Isaiah
X-ORIGINAL-URL:https://templeisaiah.com
X-WR-CALDESC:Events for Temple Isaiah
REFRESH-INTERVAL;VALUE=DURATION:PT1H
X-Robots-Tag:noindex
X-PUBLISHED-TTL:PT1H
BEGIN:VTIMEZONE
TZID:UTC
BEGIN:STANDARD
TZOFFSETFROM:+0000
TZOFFSETTO:+0000
TZNAME:UTC
DTSTART:20240101T000000
END:STANDARD
END:VTIMEZONE
BEGIN:VEVENT
DTSTART;TZID=UTC:20240716T191500
DTEND;TZID=UTC:20240716T201500
DTSTAMP:20260421T151637
CREATED:20240709T195139Z
LAST-MODIFIED:20240709T195632Z
UID:25688-1721157300-1721160900@templeisaiah.com
SUMMARY:Isaiah Women: Book Club
DESCRIPTION:Time: 7:15pm \nLocation: Home of Shelley Hoffman \nIW Host: Shelley Hoffman \nThe Women by Kristin Hannah \nDiscussion led by Robbin Steif
URL:https://templeisaiah.com/event/isaiah-women-book-club-16/
LOCATION:Away
CATEGORIES:Isaiah Women,Women
END:VEVENT
BEGIN:VEVENT
DTSTART;TZID=UTC:20240728T180000
DTEND;TZID=UTC:20240728T210000
DTSTAMP:20260421T151637
CREATED:20240709T195336Z
LAST-MODIFIED:20240709T195943Z
UID:25690-1722189600-1722200400@templeisaiah.com
SUMMARY:Isaiah Women: Comedy Night Out - Alicia Dattner
DESCRIPTION:Let’s go take in some comedy together! Join internationally-acclaimed\, award-winning comedian Alicia Dattner for her newest show\, “Are You Dressed for the Apocalypse?” \nIn this show\, Alicia explores what’s funny (and not) about climate change\, instagram influencers\, spiritual appropriation\, earthing\, self-love\, the mustachioed men of Valencia\, dog people\, authentic relating\, the big bang\, and ants carrying cheetos. It’s feminine and uncensored comedy at its finest! \nLIMITED FREE SEATS! \n\n\nWhen: Sunday\, July 28th\, 6pm \n\n\nWhere: The FanaticSalon Theater\, 3815 Sawtelle Blvd. Culver City \n\n\nWhat: A performance by Alicia Dattner \n\n\nI.W. Host: Jennie Fahn – jenniefahn@yahoo.com \n\n\nRSVP: click here and use the discount code CHAI for free tickets (order up to two tickets for free tix – enter CHAI in all caps!)
URL:https://templeisaiah.com/event/isaiah-women-standup-comedy/
LOCATION:Culver City Comedy Club – Sun\, Jul 28\, 2024 6:00pm – 9:00pm
CATEGORIES:Isaiah Women,Women
END:VEVENT
BEGIN:VEVENT
DTSTART;TZID=UTC:20240729T100000
DTEND;TZID=UTC:20240729T110000
DTSTAMP:20260421T151637
CREATED:20240709T195139Z
LAST-MODIFIED:20240709T195511Z
UID:25689-1722247200-1722250800@templeisaiah.com
SUMMARY:Isaiah Women: Movers & Shakers
DESCRIPTION:What: Walk around Rancho Park \nWhen: The Last Monday of the Month 10am – 11am \nWhere: meet at SW corner of Pico and Kerwood (at the golf course parking lot gate) \nWhat: Join us for a walk in the neighborhood that comes in at over 8\,000 steps!  We leave promptly at 4:05PM \nI.W. Host: Diane Gross
URL:https://templeisaiah.com/event/isaiah-women-movers-shakers-6/
LOCATION:Away
CATEGORIES:Isaiah Women,Women
END:VEVENT
BEGIN:VEVENT
DTSTART;TZID=UTC:20240729T190000
DTEND;TZID=UTC:20240729T210000
DTSTAMP:20260421T151637
CREATED:20240711T213317Z
LAST-MODIFIED:20240712T215042Z
UID:25696-1722279600-1722286800@templeisaiah.com
SUMMARY:Isaiah Women: Lilith Salon
DESCRIPTION:Lilith Salons feature stimulating discussions about timely Jewish and feminist issues. Join us to learn about new topics\, understand different perspectives\, and engage in lively conversations as we discuss thought-provoking articles from Lilith Magazine – a “Jewish-Feminist” publication. \nWhat: Madeline Wolf will host and Robin Siegel will facilitate! \nWhen: Monday\, July 29th\, 7-9pm \nWhere: Madeline’s home (address provided upon RSVP) \nI.W. Host: Madeline Wolf / Eileen Lewis \nRSVP: Contact Eileen J. Lewis\, at  lewis.e@sbcglobal.net\, to find out which articles we’re discussing and location details. Subscribe to the magazine at http://www.lilith.org
URL:https://templeisaiah.com/event/iw-lilith-salon/
CATEGORIES:Isaiah Women,Women
END:VEVENT
END:VCALENDAR