BEGIN:VCALENDAR
VERSION:2.0
PRODID:-//Temple Isaiah - ECPv6.6.4.2//NONSGML v1.0//EN
CALSCALE:GREGORIAN
METHOD:PUBLISH
X-ORIGINAL-URL:https://templeisaiah.com
X-WR-CALDESC:Events for Temple Isaiah
REFRESH-INTERVAL;VALUE=DURATION:PT1H
X-Robots-Tag:noindex
X-PUBLISHED-TTL:PT1H
BEGIN:VTIMEZONE
TZID:UTC
BEGIN:STANDARD
TZOFFSETFROM:+0000
TZOFFSETTO:+0000
TZNAME:UTC
DTSTART:20260101T000000
END:STANDARD
END:VTIMEZONE
BEGIN:VEVENT
DTSTART;TZID=UTC:20260330T100000
DTEND;TZID=UTC:20260330T110000
DTSTAMP:20260421T120540
CREATED:20260109T211949Z
LAST-MODIFIED:20260325T204746Z
UID:28225-1774864800-1774868400@templeisaiah.com
SUMMARY:Isaiah Women Movers and Shakers
DESCRIPTION:What: Join us for a walk in the neighborhood that comes in at over 8\,000 steps! We leave promptly at 10:05am\nWhen: The Last Monday of the Month\, 10:00am – 11:00am\nWhere: meet at SW corner of Pico and Kerwood\n(at the golf course parking lot gate)\nI.W. Host: Jennie Fahn
URL:https://templeisaiah.com/event/isaiah-women-movers-and-shakers-15/
CATEGORIES:Isaiah Women,Women
END:VEVENT
END:VCALENDAR