BEGIN:VCALENDAR
VERSION:2.0
PRODID:-//Temple Isaiah - ECPv6.6.4.2//NONSGML v1.0//EN
CALSCALE:GREGORIAN
METHOD:PUBLISH
X-ORIGINAL-URL:https://templeisaiah.com
X-WR-CALDESC:Events for Temple Isaiah
REFRESH-INTERVAL;VALUE=DURATION:PT1H
X-Robots-Tag:noindex
X-PUBLISHED-TTL:PT1H
BEGIN:VTIMEZONE
TZID:UTC
BEGIN:STANDARD
TZOFFSETFROM:+0000
TZOFFSETTO:+0000
TZNAME:UTC
DTSTART:20260101T000000
END:STANDARD
END:VTIMEZONE
BEGIN:VEVENT
DTSTART;TZID=UTC:20260317T191500
DTEND;TZID=UTC:20260317T204500
DTSTAMP:20260421T144449
CREATED:20251219T232857Z
LAST-MODIFIED:20260313T174619Z
UID:28168-1773774900-1773780300@templeisaiah.com
SUMMARY:Isaiah Women Book Club
DESCRIPTION:THE IMMORTALISTS\nby Chloe Benjamin\nWhen: Tuesday\, March 17th\, 7:15pm\nWhere: Home of Robbin Steif\nHost: Robbin Steif
URL:https://templeisaiah.com/event/isaiah-women-book-club-30/
CATEGORIES:Isaiah Women,Women
END:VEVENT
END:VCALENDAR