BEGIN:VCALENDAR
VERSION:2.0
PRODID:-//Temple Isaiah - ECPv6.6.4.2//NONSGML v1.0//EN
CALSCALE:GREGORIAN
METHOD:PUBLISH
X-ORIGINAL-URL:https://templeisaiah.com
X-WR-CALDESC:Events for Temple Isaiah
REFRESH-INTERVAL;VALUE=DURATION:PT1H
X-Robots-Tag:noindex
X-PUBLISHED-TTL:PT1H
BEGIN:VTIMEZONE
TZID:UTC
BEGIN:STANDARD
TZOFFSETFROM:+0000
TZOFFSETTO:+0000
TZNAME:UTC
DTSTART:20260101T000000
END:STANDARD
END:VTIMEZONE
BEGIN:VEVENT
DTSTART;TZID=UTC:20260313T191500
DTEND;TZID=UTC:20260313T203000
DTSTAMP:20260421T144443
CREATED:20251219T232854Z
LAST-MODIFIED:20260313T174543Z
UID:28156-1773429300-1773433800@templeisaiah.com
SUMMARY:Oneg Conversation with Assemblymember Isaac Bryan
DESCRIPTION:Conversation with Assemblymember Isaac BryanPlease join us on Friday\, March 13th as we welcome Assemblymember Isaac Bryan to Shabbat services\, followed by a Q&A with our congregation immediately afterward. This is a timely opportunity to hear directly from Assemblymember Bryan and engage in thoughtful conversations about issues impacting our communities\, including anti-Semitism and AB 715.
URL:https://templeisaiah.com/event/oneg-shabbat-131/
LOCATION:Social Hall
CATEGORIES:Home,Isaiah Women,Women
ATTACH;FMTTYPE=image/png:https://templeisaiah.com/wp-content/uploads/2025/12/Navy-Blue-and-Gray-Abstract-Shapes-Webinar-Event-Announcement-LinkedIn-Post.png
END:VEVENT
END:VCALENDAR