BEGIN:VCALENDAR
VERSION:2.0
PRODID:-//Temple Isaiah - ECPv6.6.4.2//NONSGML v1.0//EN
CALSCALE:GREGORIAN
METHOD:PUBLISH
X-WR-CALNAME:Temple Isaiah
X-ORIGINAL-URL:https://templeisaiah.com
X-WR-CALDESC:Events for Temple Isaiah
REFRESH-INTERVAL;VALUE=DURATION:PT1H
X-Robots-Tag:noindex
X-PUBLISHED-TTL:PT1H
BEGIN:VTIMEZONE
TZID:UTC
BEGIN:STANDARD
TZOFFSETFROM:+0000
TZOFFSETTO:+0000
TZNAME:UTC
DTSTART:20260101T000000
END:STANDARD
END:VTIMEZONE
BEGIN:VEVENT
DTSTART;TZID=UTC:20260301T150000
DTEND;TZID=UTC:20260301T170000
DTSTAMP:20260421T175849
CREATED:20260121T171826Z
LAST-MODIFIED:20260211T214137Z
UID:28267-1772377200-1772384400@templeisaiah.com
SUMMARY:IW Drag Show Brunch
DESCRIPTION:Indulge in delightful & glamorous entertainment at the famous Hamburger Mary’s Drag Show Brunch!\nWe’ll dine and enjoy the show together! (IW members enjoy free admission; non-IW members pay $18\, however one food or drink purchase is required\, per person).\nHost: Deena Goodman\nWhen: Sunday\, March 1st\, 3:00pm – 5:00pm (seating begins approx. 30 mins prior to showtime)\nWhere: Hamburger Mary’s\n8288 Santa Monica Boulevard\, Los Angeles\, CA 90046\n(323) 654 3800\nRSVP to reserve entry by February 23rd
URL:https://templeisaiah.com/event/iw-drag-show-brunch/
LOCATION:Away
CATEGORIES:Isaiah Women,Women
END:VEVENT
END:VCALENDAR