BEGIN:VCALENDAR
VERSION:2.0
PRODID:-//Temple Isaiah - ECPv6.6.4.2//NONSGML v1.0//EN
CALSCALE:GREGORIAN
METHOD:PUBLISH
X-WR-CALNAME:Temple Isaiah
X-ORIGINAL-URL:https://templeisaiah.com
X-WR-CALDESC:Events for Temple Isaiah
REFRESH-INTERVAL;VALUE=DURATION:PT1H
X-Robots-Tag:noindex
X-PUBLISHED-TTL:PT1H
BEGIN:VTIMEZONE
TZID:UTC
BEGIN:STANDARD
TZOFFSETFROM:+0000
TZOFFSETTO:+0000
TZNAME:UTC
DTSTART:20240101T000000
END:STANDARD
END:VTIMEZONE
BEGIN:VEVENT
DTSTART;TZID=UTC:20240904T123000
DTEND;TZID=UTC:20240904T140000
DTSTAMP:20260419T130505
CREATED:20240813T235850Z
LAST-MODIFIED:20240830T221505Z
UID:25864-1725453000-1725458400@templeisaiah.com
SUMMARY:Isaiah Women: Lunch Bunch
DESCRIPTION:Join a fun group of ladies for lunch! Meet new friends\, try new places! \nWe try a new spot the first Wednesday of each month. \nEverybody goes Dutch\, and our host makes the reservation! \n\nWhat: Isaiah Women Lunch Bunch – dine with new and old friends! \nDate: Wednesday\, September 4 \nTime: 12:30PM – 2PM \nLocation: TBD \nIW Host: Ginny Solomon
URL:https://templeisaiah.com/event/isaiah-women-lunch-bunch-14/
LOCATION:Away
CATEGORIES:Isaiah Women,Women
END:VEVENT
BEGIN:VEVENT
DTSTART;TZID=UTC:20240914T103000
DTEND;TZID=UTC:20240914T123000
DTSTAMP:20260419T130505
CREATED:20240708T183803Z
LAST-MODIFIED:20240826T172009Z
UID:25681-1726309800-1726317000@templeisaiah.com
SUMMARY:Isaiah Women: Discussing and Doing!
DESCRIPTION:Join Isaiah Women for a two-hour event including a talk with our resident experts\, clinical psychologist Madeline Wolf and Tina Feiger\, Ed.d.\, discussing life events affecting modern Jewish women. \nAfter the discussion\, help assemble toiletry bags for the Downtown Women’s Center! \nDon’t miss this opportunity to connect\, learn\, and give back! \nSnacks and coffee will be served \n\n\nWhat: Talk led by Wolf & Feiger / Toiletry Bag Stuffing \n\n\nWhen: Saturday\, September 14\, 10 am – 12:00 pm \n\n\nWhere: Temple Social Hall \n\n\nI.W. Host: Judy Werner
URL:https://templeisaiah.com/event/iw-toiletry-bags-and-rosh-hashanah-card-writing/
LOCATION:Social Hall Full
CATEGORIES:Isaiah Women,Women
END:VEVENT
BEGIN:VEVENT
DTSTART;TZID=UTC:20240917T191500
DTEND;TZID=UTC:20240917T201500
DTSTAMP:20260419T130505
CREATED:20240813T235851Z
LAST-MODIFIED:20240814T000021Z
UID:25865-1726600500-1726604100@templeisaiah.com
SUMMARY:Isaiah Women: Book Club
DESCRIPTION: Table for Two by Amor Towles \n\n\n\nDiscussion led by Eileen Lewis \n\n\nIW members bring snacks!
URL:https://templeisaiah.com/event/isaiah-women-book-club-18/
LOCATION:Away
CATEGORIES:Isaiah Women,Women
END:VEVENT
BEGIN:VEVENT
DTSTART;TZID=UTC:20240926T180000
DTEND;TZID=UTC:20240926T200000
DTSTAMP:20260419T130505
CREATED:20240718T200821Z
LAST-MODIFIED:20240919T220730Z
UID:25739-1727373600-1727380800@templeisaiah.com
SUMMARY:Isaiah Women: Speed-Friending
DESCRIPTION:Join us for a fun and engaging time getting to know each other with a good old game of Speed Friending!  All are welcome to get to know someone new\, or get to know someone even better! A light dinner will be served
URL:https://templeisaiah.com/event/isaiah-women-speed-friending/
LOCATION:Social Hall
CATEGORIES:Isaiah Women,Women
END:VEVENT
BEGIN:VEVENT
DTSTART;TZID=UTC:20240930T100000
DTEND;TZID=UTC:20240930T110000
DTSTAMP:20260419T130505
CREATED:20240801T224122Z
LAST-MODIFIED:20240827T175333Z
UID:25805-1727690400-1727694000@templeisaiah.com
SUMMARY:Isaiah Women: Movers and Shakers Walking Group
DESCRIPTION:What: Walk around Rancho Park \n\n\nWhen: September 30 (the last monday of the month) \n\n\n10am – 11am \n\n\nWhere: meet at SW corner of Pico and Kerwood \n\n\n (at the golf course parking lot gate) \n\n\nWhat: Join us for a walk in the neighborhood \n\n\nthat comes in at over 8\,000 steps! \n\n\nWe leave promptly at 10:05AM
URL:https://templeisaiah.com/event/iw-movers-and-shakers-walking-group/
CATEGORIES:Isaiah Women,Women
END:VEVENT
END:VCALENDAR