BEGIN:VCALENDAR
VERSION:2.0
PRODID:-//Temple Isaiah - ECPv6.6.4.2//NONSGML v1.0//EN
CALSCALE:GREGORIAN
METHOD:PUBLISH
X-WR-CALNAME:Temple Isaiah
X-ORIGINAL-URL:https://templeisaiah.com
X-WR-CALDESC:Events for Temple Isaiah
REFRESH-INTERVAL;VALUE=DURATION:PT1H
X-Robots-Tag:noindex
X-PUBLISHED-TTL:PT1H
BEGIN:VTIMEZONE
TZID:UTC
BEGIN:STANDARD
TZOFFSETFROM:+0000
TZOFFSETTO:+0000
TZNAME:UTC
DTSTART:20260101T000000
END:STANDARD
END:VTIMEZONE
BEGIN:VEVENT
DTSTART;TZID=UTC:20260501T181500
DTEND;TZID=UTC:20260501T191500
DTSTAMP:20260420T100102
CREATED:20260205T214419Z
LAST-MODIFIED:20260414T174053Z
UID:28390-1777659300-1777662900@templeisaiah.com
SUMMARY:Shabbat Service in Honor of Rabbi Zoë Klein Miles
DESCRIPTION:Join us at Temple Isaiah for a meaningful and uplifting Shabbat as we gather in prayer\, song\, and community to honor Rabbi Zoë Klein Miles as she enters emerita status on July 1. \nWith deep love and gratitude\, we celebrate a leader who has shaped our community with imagination\, spiritual depth\, and artistic voice—guiding us through life’s most tender and transformative moments. \nThe evening begins at 6:15 p.m. with a special Shabbat service featuring Rabbi Zoë’s words and music by The Afro-Semitic Experience\, followed by a community dinner at 7:30 p.m. ($25/person)\, offering time to connect and celebrate together. \nWe warmly welcome you to be part of this joyful and reflective evening. Please note that an RSVP is required to attend in person. Services will also be streamed live on our Vimeo channel\, website\, and Facebook page for those joining remotely. \n\nVIEW FROM VIMEO\nVIEW FROM OUR WEBSITE\nVIEW FROM FACEBOOK
URL:https://templeisaiah.com/event/shabbat-services-98/
LOCATION:Sanctuary
CATEGORIES:Home
END:VEVENT
END:VCALENDAR