BEGIN:VCALENDAR
VERSION:2.0
PRODID:-//Temple Isaiah - ECPv6.6.4.2//NONSGML v1.0//EN
CALSCALE:GREGORIAN
METHOD:PUBLISH
X-WR-CALNAME:Temple Isaiah
X-ORIGINAL-URL:https://templeisaiah.com
X-WR-CALDESC:Events for Temple Isaiah
REFRESH-INTERVAL;VALUE=DURATION:PT1H
X-Robots-Tag:noindex
X-PUBLISHED-TTL:PT1H
BEGIN:VTIMEZONE
TZID:UTC
BEGIN:STANDARD
TZOFFSETFROM:+0000
TZOFFSETTO:+0000
TZNAME:UTC
DTSTART:20260101T000000
END:STANDARD
END:VTIMEZONE
BEGIN:VEVENT
DTSTART;TZID=UTC:20260208T093000
DTEND;TZID=UTC:20260208T113000
DTSTAMP:20260423T084140
CREATED:20251117T200211Z
LAST-MODIFIED:20251209T192753Z
UID:28024-1770543000-1770550200@templeisaiah.com
SUMMARY:Planting Seeds for Tu Bish'vat
DESCRIPTION:The Isaiah journey continues beyond preschool! For students graduating from our preschool and/or entering TK or Kindergarten\, we invite you to join us on a Sunday morning to learn about Temple Isaiah’s award-winning K12 religious school program. We’ll meet the team\, pray together\, connect with one another\, learn about Tu Bish’vat – birthday of the trees! – and plant some parsley seeds to be ready in time for Passover.\n\nFamilies are welcome to join religious school families for our weekly bagels & shmoozing 9-9:30am.
URL:https://templeisaiah.com/event/planting-seeds-for-tu-bishvat/
LOCATION:Vollmer Deck
CATEGORIES:Home,Neighborhood
ATTACH;FMTTYPE=image/png:https://templeisaiah.com/wp-content/uploads/2025/11/Planting-Seeds-of-Community-For-Tu-Bishvat-1.png
END:VEVENT
END:VCALENDAR