BEGIN:VCALENDAR
VERSION:2.0
PRODID:-//Temple Isaiah - ECPv6.6.4.2//NONSGML v1.0//EN
CALSCALE:GREGORIAN
METHOD:PUBLISH
X-WR-CALNAME:Temple Isaiah
X-ORIGINAL-URL:https://templeisaiah.com
X-WR-CALDESC:Events for Temple Isaiah
REFRESH-INTERVAL;VALUE=DURATION:PT1H
X-Robots-Tag:noindex
X-PUBLISHED-TTL:PT1H
BEGIN:VTIMEZONE
TZID:UTC
BEGIN:STANDARD
TZOFFSETFROM:+0000
TZOFFSETTO:+0000
TZNAME:UTC
DTSTART:20260101T000000
END:STANDARD
END:VTIMEZONE
BEGIN:VEVENT
DTSTART;TZID=UTC:20260415T170000
DTEND;TZID=UTC:20260415T220000
DTSTAMP:20260422T142037
CREATED:20260126T170028Z
LAST-MODIFIED:20260407T183516Z
UID:28299-1776272400-1776290400@templeisaiah.com
SUMMARY:The Braid’s ON BEING JEWISH NOW
DESCRIPTION:As featured in The Hollywood Reporter\, this landmark adaptation of Zibby Owens’ bestseller ON BEING JEWISH NOW is among the first theatrical works to explore the American Jewish experience in a post-Oct. 7 world. The show includes gripping personal revelations by: noted author Joanna Rakoff (My Salinger Year) when she visits a hidden underground synagogue in Spain; famed actor Mark Feuerstein (Royal Pains) with a whimsical tale of being a fifty year-old man who breakdances;  esteemed Rabbi Sharon Brous who finds her family trapped on a boat with people demanding to know if they’re Jews; and many more stories. Isaiah members get 25% off. Learn more and get tickets here.
URL:https://templeisaiah.com/event/braid-2/
LOCATION:Sanctuary\, lobby and social hall
CATEGORIES:Braid,Home
ATTACH;FMTTYPE=image/jpeg:https://templeisaiah.com/wp-content/uploads/2026/01/On-Being-Jewish-Now-Partner-Graphic-1.jpg
END:VEVENT
END:VCALENDAR