BEGIN:VCALENDAR
VERSION:2.0
PRODID:-//Temple Isaiah - ECPv6.6.4.2//NONSGML v1.0//EN
CALSCALE:GREGORIAN
METHOD:PUBLISH
X-WR-CALNAME:Temple Isaiah
X-ORIGINAL-URL:https://templeisaiah.com
X-WR-CALDESC:Events for Temple Isaiah
REFRESH-INTERVAL;VALUE=DURATION:PT1H
X-Robots-Tag:noindex
X-PUBLISHED-TTL:PT1H
BEGIN:VTIMEZONE
TZID:UTC
BEGIN:STANDARD
TZOFFSETFROM:+0000
TZOFFSETTO:+0000
TZNAME:UTC
DTSTART:20260101T000000
END:STANDARD
END:VTIMEZONE
BEGIN:VEVENT
DTSTART;TZID=UTC:20260425T093000
DTEND;TZID=UTC:20260425T103000
DTSTAMP:20260423T114603
CREATED:20260203T184335Z
LAST-MODIFIED:20260416T173341Z
UID:28360-1777109400-1777113000@templeisaiah.com
SUMMARY:Shabbat Morning Torah Study
DESCRIPTION:Join us for our weekly discussion of Torah. This class is a hybrid class. You may join in person in the Joan and Ephraim Sales Community Center\, or on Zoom with a link provided.
URL:https://templeisaiah.com/event/shabbat-morning-torah-study-168/
LOCATION:SCC Back Room
END:VEVENT
BEGIN:VEVENT
DTSTART;TZID=UTC:20260425T131500
DTEND;TZID=UTC:20260425T173000
DTSTAMP:20260423T114603
CREATED:20260407T170935Z
LAST-MODIFIED:20260407T170935Z
UID:28587-1777122900-1777138200@templeisaiah.com
SUMMARY:ChaiVillageLA National Theater Live & Picnic at UCLA "All My Sons"
DESCRIPTION:
URL:https://templeisaiah.com/event/chaivillagela-national-theater-live-picnic-at-ucla-all-my-sons/
LOCATION:Away
END:VEVENT
BEGIN:VEVENT
DTSTART;TZID=UTC:20260425T163000
DTEND;TZID=UTC:20260425T193000
DTSTAMP:20260423T114603
CREATED:20260203T184335Z
LAST-MODIFIED:20260414T182336Z
UID:28361-1777134600-1777145400@templeisaiah.com
SUMMARY:Kidchella
DESCRIPTION:Get ready to rock & roll at our third annual Kidchella! Join Temple Isaiah’s house band and clergy for music\, dancing\, food\, fun and Havdalah!\n\nThis event is designed for those with kids aged 12 and under. It is free and open to Isaiah members and non-members\, but an RSVP is required to attend.\n\nWant to sing a song with our band or jam with us on your instrument? We’d love it! Tell us in the form below.
URL:https://templeisaiah.com/event/kidchella-2/
LOCATION:Sanctuary\, Social Hall\, & Vollmer Deck
CATEGORIES:Home,Neighborhood
ATTACH;FMTTYPE=image/png:https://templeisaiah.com/wp-content/uploads/2026/02/Screenshot-2026-04-14-at-11.23.08-AM.png
END:VEVENT
END:VCALENDAR