BEGIN:VCALENDAR
VERSION:2.0
PRODID:-//Temple Isaiah - ECPv6.6.4.2//NONSGML v1.0//EN
CALSCALE:GREGORIAN
METHOD:PUBLISH
X-WR-CALNAME:Temple Isaiah
X-ORIGINAL-URL:https://templeisaiah.com
X-WR-CALDESC:Events for Temple Isaiah
REFRESH-INTERVAL;VALUE=DURATION:PT1H
X-Robots-Tag:noindex
X-PUBLISHED-TTL:PT1H
BEGIN:VTIMEZONE
TZID:UTC
BEGIN:STANDARD
TZOFFSETFROM:+0000
TZOFFSETTO:+0000
TZNAME:UTC
DTSTART:20260101T000000
END:STANDARD
END:VTIMEZONE
BEGIN:VEVENT
DTSTART;TZID=UTC:20260423T090000
DTEND;TZID=UTC:20260423T100000
DTSTAMP:20260423T113752
CREATED:20260407T170935Z
LAST-MODIFIED:20260416T183731Z
UID:28586-1776934800-1776938400@templeisaiah.com
SUMMARY:Gather and Recharge: A Monthly Thursday Morning Spiritual Reset
DESCRIPTION:Beginning on Thursday\, April 23\, and continuing each month on the 4th Thursday of the month\, Rabbi Adam will be leading a short morning service and meditation in the Sanctuary for interested parents and grandfriends. We hope to give us all a place to check in with ourselves\, with each other and to find some spiritual recharging as the week transitions towards Shabbat. \nNo RSVP required – join us after drop off!
URL:https://templeisaiah.com/event/preschool-morning-minyan/
LOCATION:Sanctuary
END:VEVENT
BEGIN:VEVENT
DTSTART;TZID=UTC:20260423T110000
DTEND;TZID=UTC:20260423T120000
DTSTAMP:20260423T113752
CREATED:20260416T172140Z
LAST-MODIFIED:20260416T172140Z
UID:28614-1776942000-1776945600@templeisaiah.com
SUMMARY:Design committee meeting
DESCRIPTION:
URL:https://templeisaiah.com/event/design-committee-meeting/
LOCATION:SCC Front Room
END:VEVENT
END:VCALENDAR