BEGIN:VCALENDAR
VERSION:2.0
PRODID:-//Temple Isaiah - ECPv6.6.4.2//NONSGML v1.0//EN
CALSCALE:GREGORIAN
METHOD:PUBLISH
X-WR-CALNAME:Temple Isaiah
X-ORIGINAL-URL:https://templeisaiah.com
X-WR-CALDESC:Events for Temple Isaiah
REFRESH-INTERVAL;VALUE=DURATION:PT1H
X-Robots-Tag:noindex
X-PUBLISHED-TTL:PT1H
BEGIN:VTIMEZONE
TZID:UTC
BEGIN:STANDARD
TZOFFSETFROM:+0000
TZOFFSETTO:+0000
TZNAME:UTC
DTSTART:20260101T000000
END:STANDARD
END:VTIMEZONE
BEGIN:VEVENT
DTSTART;TZID=UTC:20260421T080000
DTEND;TZID=UTC:20260421T093000
DTSTAMP:20260421T022839
CREATED:20260203T184333Z
LAST-MODIFIED:20260203T184333Z
UID:28352-1776758400-1776763800@templeisaiah.com
SUMMARY:TING
DESCRIPTION:
URL:https://templeisaiah.com/event/ting-17/
LOCATION:Social Hall
END:VEVENT
BEGIN:VEVENT
DTSTART;TZID=UTC:20260421T080000
DTEND;TZID=UTC:20260421T090000
DTSTAMP:20260421T022839
CREATED:20260407T170934Z
LAST-MODIFIED:20260407T170934Z
UID:28584-1776758400-1776762000@templeisaiah.com
SUMMARY:ChaiVillageLA Tuesday Group Walk
DESCRIPTION:
URL:https://templeisaiah.com/event/chaivillagela-tuesday-group-walk-27/
LOCATION:Away
END:VEVENT
BEGIN:VEVENT
DTSTART;TZID=UTC:20260421T110000
DTEND;TZID=UTC:20260421T130000
DTSTAMP:20260421T022839
CREATED:20260209T234633Z
LAST-MODIFIED:20260209T234633Z
UID:28396-1776769200-1776776400@templeisaiah.com
SUMMARY:Infant/Toddler Initiative with Avital
DESCRIPTION:
URL:https://templeisaiah.com/event/infant-toddler-initiative-with-avital/
LOCATION:SCC Back Room
END:VEVENT
BEGIN:VEVENT
DTSTART;TZID=UTC:20260421T160000
DTEND;TZID=UTC:20260421T200000
DTSTAMP:20260421T022839
CREATED:20260203T184333Z
LAST-MODIFIED:20260203T184333Z
UID:28353-1776787200-1776801600@templeisaiah.com
SUMMARY:K-12
DESCRIPTION:
URL:https://templeisaiah.com/event/k-12-32/
END:VEVENT
BEGIN:VEVENT
DTSTART;TZID=UTC:20260421T191500
DTEND;TZID=UTC:20260421T204500
DTSTAMP:20260421T022839
CREATED:20260203T184333Z
LAST-MODIFIED:20260325T224846Z
UID:28354-1776798900-1776804300@templeisaiah.com
SUMMARY:Isaiah Women Book Club
DESCRIPTION:FIERCE ATTACHMENTS\nby Vivian Gornick\nWhen: Tuesday\, April 21st\, 7:15pm\nWhere: Home of Andrea Feldheim\nHost: Andrea Feldheim
URL:https://templeisaiah.com/event/isaiah-women-book-club-31/
CATEGORIES:Isaiah Women,Women
END:VEVENT
END:VCALENDAR