BEGIN:VCALENDAR
VERSION:2.0
PRODID:-//Temple Isaiah - ECPv6.6.4.2//NONSGML v1.0//EN
CALSCALE:GREGORIAN
METHOD:PUBLISH
X-WR-CALNAME:Temple Isaiah
X-ORIGINAL-URL:https://templeisaiah.com
X-WR-CALDESC:Events for Temple Isaiah
REFRESH-INTERVAL;VALUE=DURATION:PT1H
X-Robots-Tag:noindex
X-PUBLISHED-TTL:PT1H
BEGIN:VTIMEZONE
TZID:UTC
BEGIN:STANDARD
TZOFFSETFROM:+0000
TZOFFSETTO:+0000
TZNAME:UTC
DTSTART:20250101T000000
END:STANDARD
END:VTIMEZONE
BEGIN:VEVENT
DTSTART;TZID=UTC:20251212T173000
DTEND;TZID=UTC:20251212T190000
DTSTAMP:20260421T115628
CREATED:20251117T200209Z
LAST-MODIFIED:20251126T205351Z
UID:28022-1765560600-1765566000@templeisaiah.com
SUMMARY:Young(ish) Families Chanukah Sing-a-long Shabbat
DESCRIPTION:Join us at 5:30 for Not Quite Chanukah Shabbat as we welcome the joy and light of Chanukah… just a couple of days before we light the first candle! We’ll begin the evening with a Chanukah sing along for Young(ish) families\, and continue with all of your favorite Chanukah music from HaSharim and the Isaiah Band. You’ll enjoy singing\, dancing\, praying\, learning\, and connecting during this special Shabbat/Chanukah experience.
URL:https://templeisaiah.com/event/youngish-families-chanukah-sing-a-long-shabbat/
LOCATION:Sanctuary
CATEGORIES:Home
ATTACH;FMTTYPE=image/png:https://templeisaiah.com/wp-content/uploads/2025/11/youngish-fam-shabbat-copy-7-2.png
END:VEVENT
BEGIN:VEVENT
DTSTART;TZID=UTC:20251212T181500
DTEND;TZID=UTC:20251212T193000
DTSTAMP:20260421T115628
CREATED:20250917T184759Z
LAST-MODIFIED:20251210T001421Z
UID:27698-1765563300-1765567800@templeisaiah.com
SUMMARY:[Not Quite] Chanukah Shabbat Services
DESCRIPTION:Get ready to light up your spirits as we welcome Shabbat with a festive twist! Join us for a “Not Quite Chanukah Shabbat\,” an evening of elevated music\, deep connection\, as we welcome the first days to the Festival of Lights. We’ll be infused with the spirit of Chanukah\, sharing stories\, perhaps a taste of something fried\, and reflecting on the themes of light\, miracle\, and resilience just before the holiday officially begins. We look forward to celebrating Shabbat with you! Please note that an RSVP is required to attend services in person. \nServices will also be streamed to our Vimeo channel\, website & Facebook page. \n\nVIEW FROM VIMEO\nVIEW FROM OUR WEBSITE\nVIEW FROM FACEBOOK
URL:https://templeisaiah.com/event/chanukah-shabbat-services/
LOCATION:Sanctuary
CATEGORIES:Home,SHABBAT
ATTACH;FMTTYPE=image/png:https://templeisaiah.com/wp-content/uploads/2025/09/Untitled-2025-12-02T112239.974.png
END:VEVENT
BEGIN:VEVENT
DTSTART;TZID=UTC:20251212T191500
DTEND;TZID=UTC:20251212T203000
DTSTAMP:20260421T115628
CREATED:20250917T184759Z
LAST-MODIFIED:20250917T184759Z
UID:27699-1765566900-1765571400@templeisaiah.com
SUMMARY:Oneg Shabbat
DESCRIPTION:
URL:https://templeisaiah.com/event/oneg-shabbat-119/
LOCATION:Social Hall
END:VEVENT
END:VCALENDAR