BEGIN:VCALENDAR
VERSION:2.0
PRODID:-//Temple Isaiah - ECPv6.6.4.2//NONSGML v1.0//EN
CALSCALE:GREGORIAN
METHOD:PUBLISH
X-ORIGINAL-URL:https://templeisaiah.com
X-WR-CALDESC:Events for Temple Isaiah
REFRESH-INTERVAL;VALUE=DURATION:PT1H
X-Robots-Tag:noindex
X-PUBLISHED-TTL:PT1H
BEGIN:VTIMEZONE
TZID:UTC
BEGIN:STANDARD
TZOFFSETFROM:+0000
TZOFFSETTO:+0000
TZNAME:UTC
DTSTART:20250101T000000
END:STANDARD
END:VTIMEZONE
BEGIN:VEVENT
DTSTART;TZID=UTC:20251207T090000
DTEND;TZID=UTC:20251207T120000
DTSTAMP:20260420T124705
CREATED:20250917T184758Z
LAST-MODIFIED:20251016T174002Z
UID:27687-1765098000-1765108800@templeisaiah.com
SUMMARY:K-12
DESCRIPTION:
URL:https://templeisaiah.com/event/k-12-4/
LOCATION:Sanctuary\, Social Hall\, 101\,102\,103\, 104\,200\, 201\,202\,203\,300\,301\, 302\, 303\, 304\, 305A
END:VEVENT
BEGIN:VEVENT
DTSTART;TZID=UTC:20251207T093000
DTEND;TZID=UTC:20251207T113000
DTSTAMP:20260420T124705
CREATED:20251114T002517Z
LAST-MODIFIED:20251114T002517Z
UID:28007-1765099800-1765107000@templeisaiah.com
SUMMARY:Neighborhood meeting
DESCRIPTION:
URL:https://templeisaiah.com/event/neighborhood-meeting-2/
LOCATION:SCC Back Room
END:VEVENT
BEGIN:VEVENT
DTSTART;TZID=UTC:20251207T093000
DTEND;TZID=UTC:20251207T110000
DTSTAMP:20260420T124705
CREATED:20251107T000402Z
LAST-MODIFIED:20251114T002420Z
UID:27982-1765099800-1765105200@templeisaiah.com
SUMMARY:Grandparent & Me
DESCRIPTION:Join us for select Sunday mornings where young Isaians (ages 0-5) and their grandparent(s) come together for play\, music\, snacks\, and cherished time as a family! Led by Preschool Director Avital Etehad\, Teacher Rachael Grey\, and featuring a rotating list of special guests\, this series creates meaningful moments across generations – an embodiment of L’Dor Va’Dor! \nTemple Isaiah families with children ages 0-5 and their grandparents are invited to join us on select Sundays from November through May\, 9:30 AM to 11:00 AM. Our first session begins November 16 at Temple Isaiah. This program is free to attend\, with a suggested donation of $18 per session to support future gatherings. Let’s create beautiful memories that last a lifetime.
URL:https://templeisaiah.com/event/grandparent-me-9/
LOCATION:Miller Courtyard
END:VEVENT
BEGIN:VEVENT
DTSTART;TZID=UTC:20251207T120000
DTEND;TZID=UTC:20251207T130000
DTSTAMP:20260420T124705
CREATED:20250917T184758Z
LAST-MODIFIED:20250917T184758Z
UID:27688-1765108800-1765112400@templeisaiah.com
SUMMARY:Pop up Choir
DESCRIPTION:
URL:https://templeisaiah.com/event/pop-up-choir-38/
LOCATION:200 or 201
END:VEVENT
BEGIN:VEVENT
DTSTART;TZID=UTC:20251207T120000
DTEND;TZID=UTC:20251207T140000
DTSTAMP:20260420T124705
CREATED:20251031T201400Z
LAST-MODIFIED:20251031T201400Z
UID:27941-1765108800-1765116000@templeisaiah.com
SUMMARY:FVC event
DESCRIPTION:
URL:https://templeisaiah.com/event/fvc-event/
LOCATION:Vollmer Deck
END:VEVENT
BEGIN:VEVENT
DTSTART;TZID=UTC:20251207T173000
DTEND;TZID=UTC:20251207T200000
DTSTAMP:20260420T124705
CREATED:20250917T184758Z
LAST-MODIFIED:20251125T181509Z
UID:27689-1765128600-1765137600@templeisaiah.com
SUMMARY:Isaiah Women: Chanukah Party
DESCRIPTION:Join us as Rabbi Zoe and Cantor Schloss kick off the Festival of Lights with food\, fun\, and country line dancing led by Jewish Cowboy\, Mike Bendavid! We’ll also be collecting toys for the annual FAME Church Toy Drive. \nThere is a modest $18 charge for people who are not members of Isaiah Women.FREE for members of Isaiah Women. \n\nFrom our sisters at FAME about their Toy Drive:  \nWe kindly suggest new\, unwrapped toys appropriate for ages 0–12\, including: \nEducational toys and games\nBooks\nDolls and action figures\nSports balls and outdoor play items\nArt supplies and crafts\nLEGO sets and building toysPlease send or deliver toy donations to:\nFirst AME Church of Los Angeles\nAttn: Wanda M. Kwomo – Toy Drive\n2270 S. Harvard Blvd.\nLos Angeles\, CA 90018We will also be collecting donations at the door.For questions about the Toy Drive\, please contact Ellen Canter at Ellenjcanter@aol.com
URL:https://templeisaiah.com/event/iw-hanukkah/
LOCATION:Social Hall
CATEGORIES:Isaiah Women,Women
ATTACH;FMTTYPE=image/png:https://templeisaiah.com/wp-content/uploads/2025/09/Yellow-Illustrative-Cowboy-Theme-Birthday-Party-Invitation-1080-x-1080-px.png
END:VEVENT
END:VCALENDAR