BEGIN:VCALENDAR
VERSION:2.0
PRODID:-//Temple Isaiah - ECPv6.6.4.2//NONSGML v1.0//EN
CALSCALE:GREGORIAN
METHOD:PUBLISH
X-ORIGINAL-URL:https://templeisaiah.com
X-WR-CALDESC:Events for Temple Isaiah
REFRESH-INTERVAL;VALUE=DURATION:PT1H
X-Robots-Tag:noindex
X-PUBLISHED-TTL:PT1H
BEGIN:VTIMEZONE
TZID:UTC
BEGIN:STANDARD
TZOFFSETFROM:+0000
TZOFFSETTO:+0000
TZNAME:UTC
DTSTART:20250101T000000
END:STANDARD
END:VTIMEZONE
BEGIN:VEVENT
DTSTART;TZID=UTC:20250521T100000
DTEND;TZID=UTC:20250521T113000
DTSTAMP:20260420T123301
CREATED:20250211T183905Z
LAST-MODIFIED:20250311T183544Z
UID:26883-1747821600-1747827000@templeisaiah.com
SUMMARY:Daughters of Torah
DESCRIPTION:EVERY WEDNESDAY | 10 A.M.\nExplore the voices and stories of women within Judaism’s sacred texts. Led by Temple Isaiah member Elaine Diamond\, MA\, Judaic Studies.
URL:https://templeisaiah.com/event/daughters-of-torah-116/
LOCATION:SCC Back Room
END:VEVENT
BEGIN:VEVENT
DTSTART;TZID=UTC:20250521T193000
DTEND;TZID=UTC:20250521T220000
DTSTAMP:20260420T123301
CREATED:20250214T194428Z
LAST-MODIFIED:20250428T192453Z
UID:26895-1747855800-1747864800@templeisaiah.com
SUMMARY:The Braid’s: FOR THE LOVE OF ANIMALS
DESCRIPTION:For the Love of Animals brings to life captivating animal stories that shed light on the Jewish soul – in ways everyone will resonate with. \nIn a time of rampant antisemitism\, For the Love of Animals showcases the best of Jewish values: a dog owner’s unwavering care for her sick pet\, a camp girl’s bond with a shunned horse\, a playwright’s fight to save her parakeet during the LA wildfires\, and one Black Jewish comedian’s embrace of bats despite prejudice and myth. These and other true stories performed by professional actors will\, as Broadway World declares\, “leave everyone smiling.” Brought to you by The Braid – the Go-To Jewish Story company. Discounted tickets available as a special gift to Isaiah members!
URL:https://templeisaiah.com/event/the-braid-3/
LOCATION:Sanctuary \, lobby and social hall
CATEGORIES:Braid,Home
ATTACH;FMTTYPE=image/jpeg:https://templeisaiah.com/wp-content/uploads/2025/02/FTLOA-Image-for-Partners.jpg
END:VEVENT
END:VCALENDAR