BEGIN:VCALENDAR
VERSION:2.0
PRODID:-//Temple Isaiah - ECPv6.6.4.2//NONSGML v1.0//EN
CALSCALE:GREGORIAN
METHOD:PUBLISH
X-WR-CALNAME:Temple Isaiah
X-ORIGINAL-URL:https://templeisaiah.com
X-WR-CALDESC:Events for Temple Isaiah
REFRESH-INTERVAL;VALUE=DURATION:PT1H
X-Robots-Tag:noindex
X-PUBLISHED-TTL:PT1H
BEGIN:VTIMEZONE
TZID:UTC
BEGIN:STANDARD
TZOFFSETFROM:+0000
TZOFFSETTO:+0000
TZNAME:UTC
DTSTART:20250101T000000
END:STANDARD
END:VTIMEZONE
BEGIN:VEVENT
DTSTART;TZID=UTC:20250518T093000
DTEND;TZID=UTC:20250518T110000
DTSTAMP:20260424T111913
CREATED:20250219T233853Z
LAST-MODIFIED:20250514T055522Z
UID:26899-1747560600-1747566000@templeisaiah.com
SUMMARY:Grandparent and me
DESCRIPTION:Join us for a series of special Sunday mornings where young Isaians (ages 0-5) and their grandparents come together for play\, music\, snacks\, and cherished time as a family. Led by our clergy and guest teachers\, each session is designed to create meaningful moments across generations—an embodiment of L’Dor Va’Dor\, from generation to generation.
URL:https://templeisaiah.com/event/grandparent-and-me-7/
LOCATION:Miller Courtyard
END:VEVENT
BEGIN:VEVENT
DTSTART;TZID=UTC:20250518T120000
DTEND;TZID=UTC:20250518T124500
DTSTAMP:20260424T111913
CREATED:20250210T183325Z
LAST-MODIFIED:20250210T183325Z
UID:26877-1747569600-1747572300@templeisaiah.com
SUMMARY:Pop up choir
DESCRIPTION:
URL:https://templeisaiah.com/event/pop-up-choir-26/
LOCATION:Social Hall & Sanctuary & Room 200
END:VEVENT
BEGIN:VEVENT
DTSTART;TZID=UTC:20250518T120000
DTEND;TZID=UTC:20250518T143000
DTSTAMP:20260424T111913
CREATED:20250210T183325Z
LAST-MODIFIED:20250426T002042Z
UID:26878-1747569600-1747578600@templeisaiah.com
SUMMARY:Kidchella
DESCRIPTION:Grab your flower crowns & best music festival attire and get ready to jam! Join Temple Isaiah’s house band & clergy for an unforgettable celebration featuring music\, dancing\, tacos & fun! As this is the final day of Sunday K12 Religious School for the year\, we’ll have an opportunity to offer blessings to Carla Kopf after 31 years of service to Temple Isaiah. Come one\, come all to Kidchella! \nThis event is free and open to Isaiah members and non-members.
URL:https://templeisaiah.com/event/kidchella/
LOCATION:Vollmer Deck
CATEGORIES:Home,Neighborhood
ATTACH;FMTTYPE=image/png:https://templeisaiah.com/wp-content/uploads/2025/04/Screenshot-2025-04-25-at-5.17.50 PM.png
END:VEVENT
END:VCALENDAR