BEGIN:VCALENDAR
VERSION:2.0
PRODID:-//Temple Isaiah - ECPv6.6.4.2//NONSGML v1.0//EN
CALSCALE:GREGORIAN
METHOD:PUBLISH
X-ORIGINAL-URL:https://templeisaiah.com
X-WR-CALDESC:Events for Temple Isaiah
REFRESH-INTERVAL;VALUE=DURATION:PT1H
X-Robots-Tag:noindex
X-PUBLISHED-TTL:PT1H
BEGIN:VTIMEZONE
TZID:UTC
BEGIN:STANDARD
TZOFFSETFROM:+0000
TZOFFSETTO:+0000
TZNAME:UTC
DTSTART:20250101T000000
END:STANDARD
END:VTIMEZONE
BEGIN:VEVENT
DTSTART;TZID=UTC:20250406T110000
DTEND;TZID=UTC:20250406T120000
DTSTAMP:20260420T095235
CREATED:20250113T173108Z
LAST-MODIFIED:20250113T173108Z
UID:26740-1743937200-1743940800@templeisaiah.com
SUMMARY:Grade 3 Matzah Factorty
DESCRIPTION:
URL:https://templeisaiah.com/event/grade-3-matzah-factorty/
LOCATION:Social Hall
END:VEVENT
BEGIN:VEVENT
DTSTART;TZID=UTC:20250406T120000
DTEND;TZID=UTC:20250406T124500
DTSTAMP:20260420T095235
CREATED:20250113T173108Z
LAST-MODIFIED:20250113T173108Z
UID:26741-1743940800-1743943500@templeisaiah.com
SUMMARY:Pop up choir
DESCRIPTION:
URL:https://templeisaiah.com/event/pop-up-choir-23/
LOCATION:Social Hall & Sanctuary & Room 200
END:VEVENT
BEGIN:VEVENT
DTSTART;TZID=UTC:20250406T160000
DTEND;TZID=UTC:20250406T190000
DTSTAMP:20260420T095235
CREATED:20250113T173108Z
LAST-MODIFIED:20250327T183550Z
UID:26742-1743955200-1743966000@templeisaiah.com
SUMMARY:Beyonceder
DESCRIPTION:Presented by The Neighborhood (K12) \nOur K12 parent leaders are thrilled to present an unforgettable (and unique!) Passover experience inspired by Queen Bey. Originally conceived by Neighborhood Task Force Chair Beth Mohammed as a creative way to engage in the themes of Passover\, Beyonceder (Beyonce + seder) combines the main elements of the holiday with pop-culture-influenced activities\, joyful music and Beyonce’s best lyrics. Whether you’re a Beyonce expert or novice\, adult or child\, we welcome you to this fun\, irreverent pre-Passover gathering. \nWho is this event for? Beyonceder is geared toward our Young(ish) Families\, preschool and K12 cohorts\, and we expect many kids to attend. However\, if you are a fan of Beyonce (of any age) we welcome you to join us! \nWhat can we expect? Our “seder” will be approximately 40 minutes long followed by dinner and playtime (with additional supervision from preschool teachers)\, weather permitting\, on the Vollmer Deck. \nWhat should we wear? While some of us will be dressed in concert attire and/or our favorite Beyonce “era\,” please wear whatever you’re most comfortable in. \nQuestions about Beyonceder? Email Rabbi Jaclyn: rabbijaclyn@templeisaiah.com
URL:https://templeisaiah.com/event/beyonceder-2025/
LOCATION:Social Hall
CATEGORIES:Home,Neighborhood,passover
ATTACH;FMTTYPE=image/png:https://templeisaiah.com/wp-content/uploads/2025/01/Screenshot-2025-02-05-at-4.11.20 PM.png
END:VEVENT
END:VCALENDAR