BEGIN:VCALENDAR
VERSION:2.0
PRODID:-//Temple Isaiah - ECPv6.6.4.2//NONSGML v1.0//EN
CALSCALE:GREGORIAN
METHOD:PUBLISH
X-ORIGINAL-URL:https://templeisaiah.com
X-WR-CALDESC:Events for Temple Isaiah
REFRESH-INTERVAL;VALUE=DURATION:PT1H
X-Robots-Tag:noindex
X-PUBLISHED-TTL:PT1H
BEGIN:VTIMEZONE
TZID:UTC
BEGIN:STANDARD
TZOFFSETFROM:+0000
TZOFFSETTO:+0000
TZNAME:UTC
DTSTART:20250101T000000
END:STANDARD
END:VTIMEZONE
BEGIN:VEVENT
DTSTART;TZID=UTC:20250319T100000
DTEND;TZID=UTC:20250319T113000
DTSTAMP:20260422T091126
CREATED:20241216T213220Z
LAST-MODIFIED:20241218T233943Z
UID:26641-1742378400-1742383800@templeisaiah.com
SUMMARY:Daughters of Torah
DESCRIPTION:EVERY WEDNESDAY | 10 A.M.\nExplore the voices and stories of women within Judaism’s sacred texts. Led by Temple Isaiah member Elaine Diamond\, MA\, Judaic Studies.
URL:https://templeisaiah.com/event/daughters-of-torah-98/
LOCATION:SCC Back Room
END:VEVENT
BEGIN:VEVENT
DTSTART;TZID=UTC:20250319T170000
DTEND;TZID=UTC:20250319T190000
DTSTAMP:20260422T091126
CREATED:20241216T213220Z
LAST-MODIFIED:20250303T182021Z
UID:26642-1742403600-1742410800@templeisaiah.com
SUMMARY:IW: Happy Hour at Sorry Not Sorry
DESCRIPTION:Join your fellow Isaiah Women for a fun and relaxed happy hour at Sorry Not Sorry! Gather on the indoor lounge for great shmoozing—drinks and nosh are available for purchase.
URL:https://templeisaiah.com/event/iw-happy-hour-at-sorry-not-sorry/
LOCATION:Sorry not Sorry
CATEGORIES:Isaiah Women,Women
END:VEVENT
END:VCALENDAR