BEGIN:VCALENDAR
VERSION:2.0
PRODID:-//Temple Isaiah - ECPv6.6.4.2//NONSGML v1.0//EN
CALSCALE:GREGORIAN
METHOD:PUBLISH
X-ORIGINAL-URL:https://templeisaiah.com
X-WR-CALDESC:Events for Temple Isaiah
REFRESH-INTERVAL;VALUE=DURATION:PT1H
X-Robots-Tag:noindex
X-PUBLISHED-TTL:PT1H
BEGIN:VTIMEZONE
TZID:UTC
BEGIN:STANDARD
TZOFFSETFROM:+0000
TZOFFSETTO:+0000
TZNAME:UTC
DTSTART:20240101T000000
END:STANDARD
END:VTIMEZONE
BEGIN:VEVENT
DTSTART;TZID=UTC:20241015T080000
DTEND;TZID=UTC:20241015T100000
DTSTAMP:20260421T022734
CREATED:20240729T153516Z
LAST-MODIFIED:20240729T153516Z
UID:25749-1728979200-1728986400@templeisaiah.com
SUMMARY:TING meeting
DESCRIPTION:
URL:https://templeisaiah.com/event/ting-meeting-6/
LOCATION:Social Hall
END:VEVENT
BEGIN:VEVENT
DTSTART;TZID=UTC:20241015T093000
DTEND;TZID=UTC:20241015T110000
DTSTAMP:20260421T022734
CREATED:20241002T181314Z
LAST-MODIFIED:20241002T181314Z
UID:26182-1728984600-1728990000@templeisaiah.com
SUMMARY:CVLA Board meeting
DESCRIPTION:
URL:https://templeisaiah.com/event/cvla-board-meeting-2/
END:VEVENT
BEGIN:VEVENT
DTSTART;TZID=UTC:20241015T180000
DTEND;TZID=UTC:20241015T200000
DTSTAMP:20260421T022734
CREATED:20240729T153518Z
LAST-MODIFIED:20241008T222141Z
UID:25753-1729015200-1729022400@templeisaiah.com
SUMMARY:ChaiVillageLA Sukkot
DESCRIPTION:Our lives offer endless possibilities\, no matter our age. By coming together as a Village\, ChaiVillageLA members have created a community of caring\, enrichment\, and joy.
URL:https://templeisaiah.com/event/cvla-sukkot/
LOCATION:Vollmer Deck
END:VEVENT
BEGIN:VEVENT
DTSTART;TZID=UTC:20241015T183300
DTEND;TZID=UTC:20241015T183300
DTSTAMP:20260421T022734
CREATED:20241015T183328Z
LAST-MODIFIED:20241015T183328Z
UID:26233-1729017180-1729017180@templeisaiah.com
SUMMARY:BUILDING CLOSED
DESCRIPTION:
URL:https://templeisaiah.com/event/building-closed-21/
END:VEVENT
BEGIN:VEVENT
DTSTART;TZID=UTC:20241015T183300
DTEND;TZID=UTC:20241015T183300
DTSTAMP:20260421T022734
CREATED:20241015T183329Z
LAST-MODIFIED:20241015T183329Z
UID:26234-1729017180-1729017180@templeisaiah.com
SUMMARY:BUILDING CLOSED
DESCRIPTION:
URL:https://templeisaiah.com/event/building-closed-22/
END:VEVENT
BEGIN:VEVENT
DTSTART;TZID=UTC:20241015T183300
DTEND;TZID=UTC:20241015T183300
DTSTAMP:20260421T022734
CREATED:20241015T183329Z
LAST-MODIFIED:20241015T183329Z
UID:26236-1729017180-1729017180@templeisaiah.com
SUMMARY:BUILDING CLOSED
DESCRIPTION:
URL:https://templeisaiah.com/event/building-closed-23/
END:VEVENT
BEGIN:VEVENT
DTSTART;TZID=UTC:20241015T191500
DTEND;TZID=UTC:20241015T201500
DTSTAMP:20260421T022734
CREATED:20241008T205530Z
LAST-MODIFIED:20241008T205623Z
UID:26208-1729019700-1729023300@templeisaiah.com
SUMMARY:Isaiah Women: Book Club
DESCRIPTION: James by Percival Everett \nDiscussion led by Connie Sommer\nIW members bring snacks!
URL:https://templeisaiah.com/event/isaiah-women-book-club-19/
LOCATION:Away
CATEGORIES:Isaiah Women,Women
END:VEVENT
END:VCALENDAR