BEGIN:VCALENDAR
VERSION:2.0
PRODID:-//Temple Isaiah - ECPv6.6.4.2//NONSGML v1.0//EN
CALSCALE:GREGORIAN
METHOD:PUBLISH
X-ORIGINAL-URL:https://templeisaiah.com
X-WR-CALDESC:Events for Temple Isaiah
REFRESH-INTERVAL;VALUE=DURATION:PT1H
X-Robots-Tag:noindex
X-PUBLISHED-TTL:PT1H
BEGIN:VTIMEZONE
TZID:UTC
BEGIN:STANDARD
TZOFFSETFROM:+0000
TZOFFSETTO:+0000
TZNAME:UTC
DTSTART:20240101T000000
END:STANDARD
END:VTIMEZONE
BEGIN:VEVENT
DTSTART;TZID=UTC:20240821T100000
DTEND;TZID=UTC:20240821T113000
DTSTAMP:20260425T155416
CREATED:20240621T183446Z
LAST-MODIFIED:20240626T234142Z
UID:25612-1724234400-1724239800@templeisaiah.com
SUMMARY:Daughters of Torah
DESCRIPTION:EVERY WEDNESDAY | 10 A.M.\nExplore the voices and stories of women within Judaism’s sacred texts. Led by Temple Isaiah member Elaine Diamond\, MA\, Judaic Studies.
URL:https://templeisaiah.com/event/daughters-of-torah-80/
LOCATION:SCC Back Room
END:VEVENT
BEGIN:VEVENT
DTSTART;TZID=UTC:20240821T183000
DTEND;TZID=UTC:20240821T203000
DTSTAMP:20260425T155416
CREATED:20240520T203020Z
LAST-MODIFIED:20240520T203020Z
UID:25398-1724265000-1724272200@templeisaiah.com
SUMMARY:Board of Trustees meeting
DESCRIPTION:
URL:https://templeisaiah.com/event/board-of-trustees-meeting/
LOCATION:Social Hall Full
END:VEVENT
END:VCALENDAR