BEGIN:VCALENDAR
VERSION:2.0
PRODID:-//Temple Isaiah - ECPv6.6.4.2//NONSGML v1.0//EN
CALSCALE:GREGORIAN
METHOD:PUBLISH
X-ORIGINAL-URL:https://templeisaiah.com
X-WR-CALDESC:Events for Temple Isaiah
REFRESH-INTERVAL;VALUE=DURATION:PT1H
X-Robots-Tag:noindex
X-PUBLISHED-TTL:PT1H
BEGIN:VTIMEZONE
TZID:UTC
BEGIN:STANDARD
TZOFFSETFROM:+0000
TZOFFSETTO:+0000
TZNAME:UTC
DTSTART:20240101T000000
END:STANDARD
END:VTIMEZONE
BEGIN:VEVENT
DTSTART;TZID=UTC:20240504T093000
DTEND;TZID=UTC:20240504T103000
DTSTAMP:20260425T125343
CREATED:20240304T194524Z
LAST-MODIFIED:20240307T222757Z
UID:24911-1714815000-1714818600@templeisaiah.com
SUMMARY:Shabbat Morning Torah Study
DESCRIPTION:Join us for our weekly discussion of Torah. This class is a hybrid class. You may join in person in the Joan and Ephraim Sales Community Center\, or on Zoom with the link provided.
URL:https://templeisaiah.com/event/shabbat-morning-torah-study-68/
LOCATION:SCC Back Room
END:VEVENT
BEGIN:VEVENT
DTSTART;TZID=UTC:20240504T100000
DTEND;TZID=UTC:20240504T140000
DTSTAMP:20260425T125343
CREATED:20240403T234522Z
LAST-MODIFIED:20240403T234732Z
UID:25172-1714816800-1714831200@templeisaiah.com
SUMMARY:NAMI Walk with Team Isaiah
DESCRIPTION:What is NAMIWalks? Better to ask\, Who is NAMIWalks? The answer is simple: We are NAMIWalks. \nWe are a concerned group from Isaiah\, who understand that mental health is a social justice issue.  That is why– \nSocial Justice VP at Isaiah Brit Finney-Conlon is serving as Team Captain. \nIsaiah Board Member and Voter Engagement Star Idelle Davidson and her team will head up the Voter Registration Booth at the Walk \nIsaiah member Shelley Hoffman\, a long time NAMI advocate\, educator\, Family Support Group Faciliator and 7 year Walk Manager is Co-Captain of this team. She knows that for anyone who has a relationship with someone who has a major mental health challenge NAMI is the place to gain education\, support and resources and to learn that there is Hope and You are Not Alone. \nBy joining our team\, you —  like thousands of others across the country — are bringing us closer to our goal of “Mental Health for All.” \nWe have an impact to make\, and the larger our team\, the bigger our effect as we raise money and supercharge awareness to power NAMI and its free\, life-changing programs. \nOf course\, if you can’t walk with us\, still — please consider supporting the cause with a donation — right here on our page. It’s easy\, fast and secure! \nBe fearless. Be devoted. Be a part of this team. Be NAMIWalks. \nQuestions about Team Isaiah? Contact Brit Finney-Conlon at britfin12@gmail.com.
URL:https://templeisaiah.com/event/nami-walk/
LOCATION:Away
END:VEVENT
BEGIN:VEVENT
DTSTART;TZID=UTC:20240504T130000
DTEND;TZID=UTC:20240504T150000
DTSTAMP:20260425T125343
CREATED:20240304T194525Z
LAST-MODIFIED:20240304T194525Z
UID:24912-1714827600-1714834800@templeisaiah.com
SUMMARY:Chai Lunch
DESCRIPTION:
URL:https://templeisaiah.com/event/chai-lunch/
LOCATION:Vollmer Deck
END:VEVENT
END:VCALENDAR