BEGIN:VCALENDAR
VERSION:2.0
PRODID:-//Temple Isaiah - ECPv6.6.4.2//NONSGML v1.0//EN
CALSCALE:GREGORIAN
METHOD:PUBLISH
X-ORIGINAL-URL:https://templeisaiah.com
X-WR-CALDESC:Events for Temple Isaiah
REFRESH-INTERVAL;VALUE=DURATION:PT1H
X-Robots-Tag:noindex
X-PUBLISHED-TTL:PT1H
BEGIN:VTIMEZONE
TZID:UTC
BEGIN:STANDARD
TZOFFSETFROM:+0000
TZOFFSETTO:+0000
TZNAME:UTC
DTSTART:20240101T000000
END:STANDARD
END:VTIMEZONE
BEGIN:VEVENT
DTSTART;TZID=UTC:20240415T080000
DTEND;TZID=UTC:20240415T170000
DTSTAMP:20260423T175509
CREATED:20240208T190621Z
LAST-MODIFIED:20240208T190621Z
UID:24749-1713168000-1713200400@templeisaiah.com
SUMMARY:PS Classes
DESCRIPTION:
URL:https://templeisaiah.com/event/ps-classes-273/
LOCATION:PS Office
END:VEVENT
BEGIN:VEVENT
DTSTART;TZID=UTC:20240415T130000
DTEND;TZID=UTC:20240415T143000
DTSTAMP:20260423T175509
CREATED:20240328T234134Z
LAST-MODIFIED:20240328T234134Z
UID:25133-1713186000-1713191400@templeisaiah.com
SUMMARY:ChaiVillageLA Book Club
DESCRIPTION:
URL:https://templeisaiah.com/event/chaivillagela-book-club-2/
LOCATION:SCC Back Room
END:VEVENT
BEGIN:VEVENT
DTSTART;TZID=UTC:20240415T190000
DTEND;TZID=UTC:20240415T210000
DTSTAMP:20260423T175509
CREATED:20240221T201809Z
LAST-MODIFIED:20240319T234421Z
UID:24853-1713207600-1713214800@templeisaiah.com
SUMMARY:Is a Jewish-Arab Political Partnership Possible? An Important Conversation with Shir Nosatzki
DESCRIPTION:Shir Nosatzki is Co-Founder and Director of “Have You Seen the Horizon Lately?” an Israeli initiative seeking to promote Jewish-Arab political partnership. In the past two years\, more than 15 thousand young Israelis have taken part in Horizon’s TED-like events\, and its creative and provocative social media campaigns have reached millions. Shir was also one of the leaders of the 2011 Israeli Social Protest. She has been awarded the Dror Prize for Social Change\, was selected by TheMarker newspaper as one of the most influential people on social media in Israel.
URL:https://templeisaiah.com/event/is-a-jewish-arab-political-partnership-possible-an-important-conversation-with-shir-nosatzki/
LOCATION:Sanctuary
CATEGORIES:Home,Israel
ATTACH;FMTTYPE=image/png:https://templeisaiah.com/wp-content/uploads/2024/02/Shir-Nosatzki-SoCal-event-IN-OFFICE-PRINT-8.5x11-15.03.2024.png
END:VEVENT
END:VCALENDAR