BEGIN:VCALENDAR
VERSION:2.0
PRODID:-//Temple Isaiah - ECPv6.6.4.2//NONSGML v1.0//EN
CALSCALE:GREGORIAN
METHOD:PUBLISH
X-WR-CALNAME:Temple Isaiah
X-ORIGINAL-URL:https://templeisaiah.com
X-WR-CALDESC:Events for Temple Isaiah
REFRESH-INTERVAL;VALUE=DURATION:PT1H
X-Robots-Tag:noindex
X-PUBLISHED-TTL:PT1H
BEGIN:VTIMEZONE
TZID:UTC
BEGIN:STANDARD
TZOFFSETFROM:+0000
TZOFFSETTO:+0000
TZNAME:UTC
DTSTART:20240101T000000
END:STANDARD
END:VTIMEZONE
BEGIN:VEVENT
DTSTART;TZID=UTC:20240414T093000
DTEND;TZID=UTC:20240414T120000
DTSTAMP:20260423T131527
CREATED:20240208T190620Z
LAST-MODIFIED:20240208T190620Z
UID:24745-1713087000-1713096000@templeisaiah.com
SUMMARY:K12 Grades PreK-6th
DESCRIPTION:
URL:https://templeisaiah.com/event/k12-grades-prek-6th-36/
LOCATION:RS Office
END:VEVENT
BEGIN:VEVENT
DTSTART;TZID=UTC:20240414T094500
DTEND;TZID=UTC:20240414T110000
DTSTAMP:20260423T131527
CREATED:20240314T183250Z
LAST-MODIFIED:20240315T192938Z
UID:25003-1713087900-1713092400@templeisaiah.com
SUMMARY:The Next Step
DESCRIPTION:A program for preschool families with children who will be finishing preschool and going to either TK or Kindergarten. Learn all about K-12 Religious School\, our programs\, and staff.
URL:https://templeisaiah.com/event/the-next-step/
LOCATION:Social Hall Full
ATTACH;FMTTYPE=image/png:https://templeisaiah.com/wp-content/uploads/2024/03/Untitled-3-20.png
END:VEVENT
BEGIN:VEVENT
DTSTART;TZID=UTC:20240414T110000
DTEND;TZID=UTC:20240414T120000
DTSTAMP:20260423T131527
CREATED:20240208T190620Z
LAST-MODIFIED:20240403T221844Z
UID:24747-1713092400-1713096000@templeisaiah.com
SUMMARY:K12 3rd Grade Matzah Factory
DESCRIPTION:
URL:https://templeisaiah.com/event/k12-3rd-grade-matzah-factory/
LOCATION:Miller Courtyard
END:VEVENT
BEGIN:VEVENT
DTSTART;TZID=UTC:20240414T120000
DTEND;TZID=UTC:20240414T124500
DTSTAMP:20260423T131527
CREATED:20240208T190620Z
LAST-MODIFIED:20240208T190620Z
UID:24748-1713096000-1713098700@templeisaiah.com
SUMMARY:Pop-Up Choir Rehearsal
DESCRIPTION:
URL:https://templeisaiah.com/event/pop-up-choir-rehearsal-14/
LOCATION:Sanctuary
END:VEVENT
BEGIN:VEVENT
DTSTART;TZID=UTC:20240414T123000
DTEND;TZID=UTC:20240414T133000
DTSTAMP:20260423T131527
CREATED:20240304T221155Z
LAST-MODIFIED:20240304T221155Z
UID:24927-1713097800-1713101400@templeisaiah.com
SUMMARY:Teen Tech Titans
DESCRIPTION:
URL:https://templeisaiah.com/event/teen-tech-titans-2/
LOCATION:SCC Back Room
END:VEVENT
END:VCALENDAR