BEGIN:VCALENDAR
VERSION:2.0
PRODID:-//Temple Isaiah - ECPv6.6.4.2//NONSGML v1.0//EN
CALSCALE:GREGORIAN
METHOD:PUBLISH
X-ORIGINAL-URL:https://templeisaiah.com
X-WR-CALDESC:Events for Temple Isaiah
REFRESH-INTERVAL;VALUE=DURATION:PT1H
X-Robots-Tag:noindex
X-PUBLISHED-TTL:PT1H
BEGIN:VTIMEZONE
TZID:UTC
BEGIN:STANDARD
TZOFFSETFROM:+0000
TZOFFSETTO:+0000
TZNAME:UTC
DTSTART:20240101T000000
END:STANDARD
END:VTIMEZONE
BEGIN:VEVENT
DTSTART;TZID=UTC:20240401T080000
DTEND;TZID=UTC:20240401T120000
DTSTAMP:20260423T193430
CREATED:20240123T185253Z
LAST-MODIFIED:20240123T185253Z
UID:24621-1711958400-1711972800@templeisaiah.com
SUMMARY:PS Classes
DESCRIPTION:
URL:https://templeisaiah.com/event/ps-classes-264/
LOCATION:PS Office
END:VEVENT
BEGIN:VEVENT
DTSTART;TZID=UTC:20240401T103000
DTEND;TZID=UTC:20240401T113000
DTSTAMP:20260423T193430
CREATED:20240321T192050Z
LAST-MODIFIED:20240327T213549Z
UID:25066-1711967400-1711971000@templeisaiah.com
SUMMARY:ChaiVillageLA: Men's Group with Terry Pullan
DESCRIPTION:
URL:https://templeisaiah.com/event/mens-group-terry-pullan/
LOCATION:SCC Front Room
END:VEVENT
END:VCALENDAR